BEGIN:VCALENDAR
VERSION:2.0
PRODID:-//KiFaz Pliezhausen - ECPv5.14.0.1//NONSGML v1.0//EN
CALSCALE:GREGORIAN
METHOD:PUBLISH
X-WR-CALNAME:KiFaz Pliezhausen
X-ORIGINAL-URL:https://kifaz-pliezhausen.de
X-WR-CALDESC:Veranstaltungen für KiFaz Pliezhausen
REFRESH-INTERVAL;VALUE=DURATION:PT1H
X-Robots-Tag:noindex
X-PUBLISHED-TTL:PT1H
BEGIN:VTIMEZONE
TZID:Europe/Berlin
BEGIN:DAYLIGHT
TZOFFSETFROM:+0100
TZOFFSETTO:+0200
TZNAME:CEST
DTSTART:20220327T010000
END:DAYLIGHT
BEGIN:STANDARD
TZOFFSETFROM:+0200
TZOFFSETTO:+0100
TZNAME:CET
DTSTART:20221030T010000
END:STANDARD
BEGIN:DAYLIGHT
TZOFFSETFROM:+0100
TZOFFSETTO:+0200
TZNAME:CEST
DTSTART:20230326T010000
END:DAYLIGHT
BEGIN:STANDARD
TZOFFSETFROM:+0200
TZOFFSETTO:+0100
TZNAME:CET
DTSTART:20231029T010000
END:STANDARD
END:VTIMEZONE
BEGIN:VEVENT
DTSTART;TZID=Europe/Berlin:20230403T193000
DTEND;TZID=Europe/Berlin:20230403T213000
DTSTAMP:20260421T111433
CREATED:20230112T080022Z
LAST-MODIFIED:20230323T083534Z
UID:1112-1680550200-1680557400@kifaz-pliezhausen.de
SUMMARY:IDEEN-reich
DESCRIPTION:GEMEINSAM. KREATIV.\n\nDu hast den Kopf voller kreativer Ideen?\nDie Frage ist nur WANN\, WO und mit WEM?\nDu willst neue kreative Impulse bekommen\, ausprobieren\, erleben\, quatschen und Spaß haben?\n\nBei Uns bist Du richtig!\nEinmal im Monat treffen Wir Uns von „IDEENreich“ im Ev. Gemeindehaus in Pliezhausen\, um Uns gemeinsam kreativ auszuleben.\nJeden Monat ein neues Thema- ein neuer Impuls- eine neue Möglichkeit.\nSchau einfach vorbei. Mach mit!\n\nGEMEINSAM ist das Stichwort\, das Uns tragen soll.\nGemeinsam Impulse erarbeiten\, umsetzen\, Themen aufgreifen und eigenes Wissen teilen.\nVielleicht hast auch Du eine Idee\, die Du schon lange mit Dir herum trägst?\n\nHEUTE\nFeenleicht – Basics Nadelfilzen\nUnkostenbeitrag 2€
URL:https://kifaz-pliezhausen.de/veranstaltung/ideen-reich-2023-04-03/
LOCATION:Evang. Gemeindehaus\, Lindenstraße 5\, Pliezhausen\, 72124
CATEGORIES:Eltern,Großeltern
ATTACH;FMTTYPE=image/jpeg:https://kifaz-pliezhausen.de/wp-content/uploads/2023/01/IdeenReich_2_2._FINAL_ohne_Logo-scaled.jpg
END:VEVENT
BEGIN:VEVENT
DTSTART;TZID=Europe/Berlin:20230331T140000
DTEND;TZID=Europe/Berlin:20230331T170000
DTSTAMP:20260421T111433
CREATED:20221017T111818Z
LAST-MODIFIED:20230323T083434Z
UID:909-1680271200-1680282000@kifaz-pliezhausen.de
SUMMARY:Arche Café kunterbunt
DESCRIPTION:Liebe Arche Familien\,\njeden letzten Freitag im Monat wird das Arche Café Kunterbunt von nun an geöffnet sein. \nWir laden Sie herzlich ein\n• zum gemütlichen Zusammensein\n• zu lebendigem Austausch\n• neue Familien kennenzulernen\n• von 14 -17 Uhr\n• an Kindergartentagen\n• im Cafébereich und Bauecke \nHeute dreht sich alles um die OSTERBASTELEI! \nWerden sie mit ihrem Kind kreativ – einfach kommen und mitmachen! Mitbringen müssen sie nichts: es ist für alles gesorgt. \nAlso Lust auf Kaffeeduft? Dann sehen wir uns im Arche Café. \nHerzliche Grüße\nIhr Arche Café Team
URL:https://kifaz-pliezhausen.de/veranstaltung/arche-cafe-kunterbunt-2023-03-31/
LOCATION:Kinder- & Familienzentrum Arche\, Karlstraße 7\, Pliezhausen\, 72124\, Deutschland
CATEGORIES:Eltern,Großeltern,Kinder
ATTACH;FMTTYPE=image/jpeg:https://kifaz-pliezhausen.de/wp-content/uploads/2022/10/Eltern_Elterncafe.jpg
END:VEVENT
BEGIN:VEVENT
DTSTART;TZID=Europe/Berlin:20230306T193000
DTEND;TZID=Europe/Berlin:20230306T213000
DTSTAMP:20260421T111433
CREATED:20230112T080022Z
LAST-MODIFIED:20230116T062433Z
UID:1111-1678131000-1678138200@kifaz-pliezhausen.de
SUMMARY:IDEEN-reich
DESCRIPTION:GEMEINSAM. KREATIV.\n\nDu hast den Kopf voller kreativer Ideen?\nDie Frage ist nur WANN\, WO und mit WEM?\nDu willst neue kreative Impulse bekommen\, ausprobieren\, erleben\, quatschen und Spaß haben?\n\nBei Uns bist Du richtig!\nEinmal im Monat treffen Wir Uns von „IDEENreich“ im Ev. Gemeindehaus in Pliezhausen\, um Uns gemeinsam kreativ auszuleben.\nJeden Monat ein neues Thema- ein neuer Impuls- eine neue Möglichkeit.\nSchau einfach vorbei. Mach mit!\n\nGEMEINSAM ist das Stichwort\, das Uns tragen soll.\nGemeinsam Impulse erarbeiten\, umsetzen\, Themen aufgreifen und eigenes Wissen teilen.\nVielleicht hast auch Du eine Idee\, die Du schon lange mit Dir herum trägst?\n\nHEUTE\nHühner\, Eier & Co: Osterdeko für dein Zuhause\n\nbitte mitbringen: bunte Stifte (Holz-\, Filz-\, Acryl-) und Schere
URL:https://kifaz-pliezhausen.de/veranstaltung/ideen-reich-2023-03-06/
LOCATION:Evang. Gemeindehaus\, Lindenstraße 5\, Pliezhausen\, 72124
CATEGORIES:Eltern,Großeltern
ATTACH;FMTTYPE=image/jpeg:https://kifaz-pliezhausen.de/wp-content/uploads/2023/01/IdeenReich_2_2._FINAL_ohne_Logo-scaled.jpg
END:VEVENT
BEGIN:VEVENT
DTSTART;TZID=Europe/Berlin:20230206T193000
DTEND;TZID=Europe/Berlin:20230206T213000
DTSTAMP:20260421T111433
CREATED:20230112T080022Z
LAST-MODIFIED:20230116T062840Z
UID:1107-1675711800-1675719000@kifaz-pliezhausen.de
SUMMARY:IDEEN-reich
DESCRIPTION:GEMEINSAM. KREATIV.\n\nDu hast den Kopf voller kreativer Ideen?\nDie Frage ist nur WANN\, WO und mit WEM?\nDu willst neue kreative Impulse bekommen\, ausprobieren\, erleben\, quatschen und Spaß haben?\n\nBei Uns bist Du richtig!\nEinmal im Monat treffen Wir Uns von „IDEENreich“ im Ev. Gemeindehaus in Pliezhausen\, um Uns gemeinsam kreativ auszuleben.\nJeden Monat ein neues Thema- ein neuer Impuls- eine neue Möglichkeit.\nSchau einfach vorbei. Mach mit!\n\nGEMEINSAM ist das Stichwort\, das Uns tragen soll.\nGemeinsam Impulse erarbeiten\, umsetzen\, Themen aufgreifen und eigenes Wissen teilen.\nVielleicht hast auch Du eine Idee\, die Du schon lange mit Dir herum trägst?\n\nHEUTE\nBücher upcycling – Faltideen
URL:https://kifaz-pliezhausen.de/veranstaltung/ideen-reich/
LOCATION:Evang. Gemeindehaus\, Lindenstraße 5\, Pliezhausen\, 72124
CATEGORIES:Eltern,Großeltern
ATTACH;FMTTYPE=image/jpeg:https://kifaz-pliezhausen.de/wp-content/uploads/2023/01/IdeenReich_2_2._FINAL_ohne_Logo-scaled.jpg
END:VEVENT
BEGIN:VEVENT
DTSTART;TZID=Europe/Berlin:20221125T140000
DTEND;TZID=Europe/Berlin:20221125T170000
DTSTAMP:20260421T111433
CREATED:20221017T112729Z
LAST-MODIFIED:20221020T103142Z
UID:831-1669384800-1669395600@kifaz-pliezhausen.de
SUMMARY:Arche Café kunterbunt
DESCRIPTION:Herzliche Einladung an alle Arche-Familien! \nDer Advent steht vor der Tür! \nHeute wollen wir uns miteinander einstimmen\, Gemeinschaft erleben\, uns besinnen und auftanken. \nWir laden Sie herzlich ein \n• zum gemütlichen Zusammensein \n• zu lebendigem Austausch \n• neue Familien kennenzulernen \n• von 14 -17 Uhr \n• im Cafébereich und Bauecke \nAlso Lust auf Kaffeeduft? Dann sehen wir uns im Arche Café. \nHerzliche Grüße Ihr Arche Café Team
URL:https://kifaz-pliezhausen.de/veranstaltung/2022-11-25/
LOCATION:Kinder- & Familienzentrum Arche\, Karlstraße 7\, Pliezhausen\, 72124\, Deutschland
CATEGORIES:Eltern,Großeltern,Kinder
ATTACH;FMTTYPE=image/jpeg:https://kifaz-pliezhausen.de/wp-content/uploads/2022/10/Eltern_Elterncafe.jpg
END:VEVENT
BEGIN:VEVENT
DTSTART;TZID=Europe/Berlin:20221114T170000
DTEND;TZID=Europe/Berlin:20221114T180000
DTSTAMP:20260421T111433
CREATED:20221110T151422Z
LAST-MODIFIED:20221111T072859Z
UID:1032-1668445200-1668448800@kifaz-pliezhausen.de
SUMMARY:Laternenfest
DESCRIPTION:Dieses Jahr treffen wir uns\, wie im letzten Jahr\, um 17:00 Uhr im Greut. \nAlle Familien dürfen gerne mit ihren Laternen selbstständig dorthin laufen. \nWir freuen uns\, wenn jedes Kind seine Laterne mitbringt und wir ein großes Lichtermeer im Greut erleben. \nDort singen wir gemeinsam Laternenlieder\, schauen uns ein Martinsanspiel an und genießen diese Stimmung. \nVom Kinderhaus werden Lebkuchen verteilt und es wird Zeit geben selbst mitgebrachten Punsch und Glühwein zu trinken und diesen mit den anderen Familien zu teilen – ganz wie St. Martin. \nBitte bringen Sie Tassen/Becher und Getränke selbst mit. \nDenken Sie auch an Taschenlampen für die Liedtexte\, damit wir auch alle laut mitsingen können. \nNach einem gemeinsamen Abschluss können Sie den Weg nach Hause gerne selbstständig nutzen\, das Licht durch Pliezhausen zu tragen und weiter bekannte Laternenlieder zu singen. \nWir freuen uns auf einen schönes Laternenfest. \n 
URL:https://kifaz-pliezhausen.de/veranstaltung/laternenfest/
LOCATION:Freizeitbereich „Greut“\, Freizeitbereich Greut der evangelischen Kirchengemeinde\, Greutstraße\, Pliezhausen\, Baden Württemberg\, 72124\, Deutschland
CATEGORIES:Eltern,Großeltern,Kinder
ATTACH;FMTTYPE=image/jpeg:https://kifaz-pliezhausen.de/wp-content/uploads/2022/11/lantern-hike-3829133_960_720.jpg
END:VEVENT
BEGIN:VEVENT
DTSTART;TZID=Europe/Berlin:20221028T140000
DTEND;TZID=Europe/Berlin:20221028T170000
DTSTAMP:20260421T111433
CREATED:20221017T111818Z
LAST-MODIFIED:20260127T142315Z
UID:828-1666965600-1666976400@kifaz-pliezhausen.de
SUMMARY:Freitagscafé
DESCRIPTION:Liebe Familien\,\njeden letzten Freitag im Monat ist das Arche Café Kunterbunt geöffnet. \nWir laden Sie herzlich ein\n• zum gemütlichen Zusammensein\n• zu lebendigem Austausch\n• neue Familien kennenzulernen\n• von 14 -17 Uhr\n• an Kindergartentagen\n• im Cafébereich und Bauecke \nAlso Lust auf Kaffeeduft? Dann sehen wir uns im Arche Café. \nHerzliche Grüße\nIhr Arche Café Team
URL:https://kifaz-pliezhausen.de/veranstaltung/arche-cafe-kunterbunt/2022-10-28/
LOCATION:Kinder- & Familienzentrum Arche\, Karlstraße 7\, Pliezhausen\, 72124\, Deutschland
CATEGORIES:Eltern,Großeltern,Kinder
ATTACH;FMTTYPE=image/jpeg:https://kifaz-pliezhausen.de/wp-content/uploads/2022/10/Eltern_Elterncafe.jpg
END:VEVENT
BEGIN:VEVENT
DTSTART;TZID=Europe/Berlin:20220804T180000
DTEND;TZID=Europe/Berlin:20220804T190000
DTSTAMP:20260421T111433
CREATED:20220615T140210Z
LAST-MODIFIED:20220620T160116Z
UID:638-1659636000-1659639600@kifaz-pliezhausen.de
SUMMARY:„Die Arche Noah – Ein Erzählkonzert für die ganze Familie“
DESCRIPTION:Bei diesem Konzert für die ganze Familie wird die im Alten Testament überlieferte Geschichte von Noah und seiner Arche in Kombination von Lesung\, Orgelmusik und Bildern erzählt. Kinder aus dem Kinder- und Familienzentrum „Arche“ in Pliezhausen malen Bilder zur Geschichte\, die bei der Aufführung präsentiert werden. Dazu erklingen Kompositionen von Johann Sebastian Bach.
URL:https://kifaz-pliezhausen.de/veranstaltung/die-arche-noah-ein-erzaehlkonzert-fuer-die-ganze-familie/2022-08-04/
LOCATION:Ev. Martinskirche\, Pfarrgasse 3\, Pliezhausen\, 72124\, Deutschland
ATTACH;FMTTYPE=image/png:https://kifaz-pliezhausen.de/wp-content/uploads/2022/06/Arche-Orgelkonzert.png
END:VEVENT
BEGIN:VEVENT
DTSTART;TZID=Europe/Berlin:20220710T103000
DTEND;TZID=Europe/Berlin:20220710T160000
DTSTAMP:20260421T111433
CREATED:20220601T085356Z
LAST-MODIFIED:20220620T160602Z
UID:600-1657449000-1657468800@kifaz-pliezhausen.de
SUMMARY:Tierisch wild - Familientag 2022
DESCRIPTION:Herzliche Einladung an alle Familien \nAm Sonntag 10.Juli 2022 findet unser Familientag statt! \n  \n„Tierisch wild“ \n  \nWir starten um 10.30 Uhr mit einem Familiengottesdienst gemeinsam mit dem Kinder- und Familienzentrum ARCHE in der Evangelischen Martinskirche. \nIm Anschluss ist Action angesagt: allerlei Spielstationen laden rund um die Kirche ein\, gemeinsam aktiv zu werden. \nZur Stärkung ist natürlich für ein leckeres Mittagessen gesorgt. \n  \nAb 13 Uhr geht es dann auf Spurensuche zur Arche. \nDort warten auf euch ein riesiger Dschungel\, verschiedene Kreativstationen und lecker Kaffee und Kuchen. \nWir freuen uns auf euch und einen actionreichen Tag!
URL:https://kifaz-pliezhausen.de/veranstaltung/tierisch-wild-familientag-2022/
LOCATION:Ev. Martinskirche\, Pfarrgasse 3\, Pliezhausen\, 72124\, Deutschland
ATTACH;FMTTYPE=image/jpeg:https://kifaz-pliezhausen.de/wp-content/uploads/2022/06/pexels-jiri-mikolas-6338219-scaled.jpg
END:VEVENT
END:VCALENDAR