BEGIN:VCALENDAR
VERSION:2.0
PRODID:-//KiFaz Pliezhausen - ECPv5.14.0.1//NONSGML v1.0//EN
CALSCALE:GREGORIAN
METHOD:PUBLISH
X-WR-CALNAME:KiFaz Pliezhausen
X-ORIGINAL-URL:https://kifaz-pliezhausen.de
X-WR-CALDESC:Veranstaltungen für KiFaz Pliezhausen
REFRESH-INTERVAL;VALUE=DURATION:PT1H
X-Robots-Tag:noindex
X-PUBLISHED-TTL:PT1H
BEGIN:VTIMEZONE
TZID:Europe/Berlin
BEGIN:DAYLIGHT
TZOFFSETFROM:+0100
TZOFFSETTO:+0200
TZNAME:CEST
DTSTART:20220327T010000
END:DAYLIGHT
BEGIN:STANDARD
TZOFFSETFROM:+0200
TZOFFSETTO:+0100
TZNAME:CET
DTSTART:20221030T010000
END:STANDARD
BEGIN:DAYLIGHT
TZOFFSETFROM:+0100
TZOFFSETTO:+0200
TZNAME:CEST
DTSTART:20230326T010000
END:DAYLIGHT
BEGIN:STANDARD
TZOFFSETFROM:+0200
TZOFFSETTO:+0100
TZNAME:CET
DTSTART:20231029T010000
END:STANDARD
BEGIN:DAYLIGHT
TZOFFSETFROM:+0100
TZOFFSETTO:+0200
TZNAME:CEST
DTSTART:20240331T010000
END:DAYLIGHT
BEGIN:STANDARD
TZOFFSETFROM:+0200
TZOFFSETTO:+0100
TZNAME:CET
DTSTART:20241027T010000
END:STANDARD
END:VTIMEZONE
BEGIN:VEVENT
DTSTART;TZID=Europe/Berlin:20241123T091500
DTEND;TZID=Europe/Berlin:20241123T120000
DTSTAMP:20260424T154607
CREATED:20220519T055305Z
LAST-MODIFIED:20241104T075551Z
UID:408-1732353300-1732363200@kifaz-pliezhausen.de
SUMMARY:Schwesterherzen
DESCRIPTION:It’s ladies time\nFrühstück für Dich \nHoffend(t)lich…Wie Hoffnung unser Leben verändert \n  \n„Verliere niemals die Hoffnung\, denn jeden Tag geschehen Wunder.! \nAndrea Eissler – Gemeindediakonin\, Pfarrfrau und Mutter – erzählt ihre persönliche Lebensgeschichte zum Thema Hoffnung. \n  \nHast du Lust auf ein leckeres Frühstück in entspannter Atmosphäre mit anderen Ladies? \nDann sei dabei am: \nSamstag\, 23. November 2024\, 9.15 Uhr \nEvangelisches Gemeindehaus Pliezhausen \nAnmeldung bist Dienstag\, 19.11.24 \nschwesterherzen@online.de oder 0160 8552 856 \nWir freuen uns auf dich! \nDeine Schwesterherzen \n  \n 
URL:https://kifaz-pliezhausen.de/veranstaltung/schwesterherzen-fruehstueck/
LOCATION:Evang. Gemeindehaus\, Lindenstraße 5\, Pliezhausen\, 72124
CATEGORIES:Frauen
ATTACH;FMTTYPE=image/jpeg:https://kifaz-pliezhausen.de/wp-content/uploads/2022/05/cf941a36-3581-4554-af1c-186f29bb9a40.jpg
END:VEVENT
BEGIN:VEVENT
DTSTART;TZID=Europe/Berlin:20241111T173000
DTEND;TZID=Europe/Berlin:20241111T190000
DTSTAMP:20260424T154607
CREATED:20241008T085033Z
LAST-MODIFIED:20241008T085033Z
UID:1960-1731346200-1731351600@kifaz-pliezhausen.de
SUMMARY:Martinsfest
DESCRIPTION:Macht euch als Familie mit Euren Laternen auf den Weg in die Martinskirche \nHerzliche Einladung zu unserem Martinsfest in der Martinskirche  \nGemeinsam starten wir mit den Laternen vor der Kirche. \nAnschließend feiern wir unser Fest mit Liedern und einer Geschichte. Zum Abschluss gibt’s ein warmes Feuer\, Punsch\, Glühwein und Gebäck. Bitte eine eigene Tasse mitbringen. \n  \nWir freuen uns auf Euch und Eure leuchtenden Laternen!
URL:https://kifaz-pliezhausen.de/veranstaltung/martinsfest/
LOCATION:Ev. Martinskirche\, Pfarrgasse 3\, Pliezhausen\, 72124\, Deutschland
ATTACH;FMTTYPE=image/png:https://kifaz-pliezhausen.de/wp-content/uploads/2024/10/file.png
END:VEVENT
BEGIN:VEVENT
DTSTART;TZID=Europe/Berlin:20241110T190000
DTEND;TZID=Europe/Berlin:20241110T190000
DTSTAMP:20260424T154607
CREATED:20221005T105837Z
LAST-MODIFIED:20221005T105837Z
UID:1821-1731265200-1731265200@kifaz-pliezhausen.de
SUMMARY:EINFACH TANZEN
DESCRIPTION:mit Mara Dagmar Ziegler \ndie tanzmeisterei\, Tübingen \n  \nGanz von alleine ergeben sich Spaß\, Auflockerung und Begegnung \nSpritzig-lebendige Folk-Tänze aus Großbritannien und Frankreich \nJung und Alt tanzen in spontan gebildeten Gruppen \nVorkenntnisse sind nicht erforderlich \nDie Teilnahme ist mit und ohne Tanzpartner*in möglich \nEintritt frei/ auf Spendenbasis \n  \n  \nAnmeldung gerne an \neinfachtanzen-pliezhausen@web.de \n07127/70010
URL:https://kifaz-pliezhausen.de/veranstaltung/einfach-tanzen/2024-11-10/
LOCATION:Evang. Gemeindehaus\, Lindenstraße 5\, Pliezhausen\, 72124
CATEGORIES:Eltern,Großeltern
ATTACH;FMTTYPE=image/jpeg:https://kifaz-pliezhausen.de/wp-content/uploads/2022/10/Tanzen.jpg
END:VEVENT
BEGIN:VEVENT
DTSTART;TZID=Europe/Berlin:20241013T190000
DTEND;TZID=Europe/Berlin:20241013T190000
DTSTAMP:20260424T154607
CREATED:20221005T105837Z
LAST-MODIFIED:20221005T105837Z
UID:1820-1728846000-1728846000@kifaz-pliezhausen.de
SUMMARY:EINFACH TANZEN
DESCRIPTION:mit Mara Dagmar Ziegler \ndie tanzmeisterei\, Tübingen \n  \nGanz von alleine ergeben sich Spaß\, Auflockerung und Begegnung \nSpritzig-lebendige Folk-Tänze aus Großbritannien und Frankreich \nJung und Alt tanzen in spontan gebildeten Gruppen \nVorkenntnisse sind nicht erforderlich \nDie Teilnahme ist mit und ohne Tanzpartner*in möglich \nEintritt frei/ auf Spendenbasis \n  \n  \nAnmeldung gerne an \neinfachtanzen-pliezhausen@web.de \n07127/70010
URL:https://kifaz-pliezhausen.de/veranstaltung/einfach-tanzen/2024-10-13/
LOCATION:Evang. Gemeindehaus\, Lindenstraße 5\, Pliezhausen\, 72124
CATEGORIES:Eltern,Großeltern
ATTACH;FMTTYPE=image/jpeg:https://kifaz-pliezhausen.de/wp-content/uploads/2022/10/Tanzen.jpg
END:VEVENT
BEGIN:VEVENT
DTSTART;TZID=Europe/Berlin:20240908T190000
DTEND;TZID=Europe/Berlin:20240908T190000
DTSTAMP:20260424T154607
CREATED:20221005T105837Z
LAST-MODIFIED:20221005T105837Z
UID:1819-1725822000-1725822000@kifaz-pliezhausen.de
SUMMARY:EINFACH TANZEN
DESCRIPTION:mit Mara Dagmar Ziegler \ndie tanzmeisterei\, Tübingen \n  \nGanz von alleine ergeben sich Spaß\, Auflockerung und Begegnung \nSpritzig-lebendige Folk-Tänze aus Großbritannien und Frankreich \nJung und Alt tanzen in spontan gebildeten Gruppen \nVorkenntnisse sind nicht erforderlich \nDie Teilnahme ist mit und ohne Tanzpartner*in möglich \nEintritt frei/ auf Spendenbasis \n  \n  \nAnmeldung gerne an \neinfachtanzen-pliezhausen@web.de \n07127/70010
URL:https://kifaz-pliezhausen.de/veranstaltung/einfach-tanzen/2024-09-08/
LOCATION:Evang. Gemeindehaus\, Lindenstraße 5\, Pliezhausen\, 72124
CATEGORIES:Eltern,Großeltern
ATTACH;FMTTYPE=image/jpeg:https://kifaz-pliezhausen.de/wp-content/uploads/2022/10/Tanzen.jpg
END:VEVENT
BEGIN:VEVENT
DTSTART;TZID=Europe/Berlin:20240811T190000
DTEND;TZID=Europe/Berlin:20240811T190000
DTSTAMP:20260424T154607
CREATED:20221005T105837Z
LAST-MODIFIED:20221005T105837Z
UID:1818-1723402800-1723402800@kifaz-pliezhausen.de
SUMMARY:EINFACH TANZEN
DESCRIPTION:mit Mara Dagmar Ziegler \ndie tanzmeisterei\, Tübingen \n  \nGanz von alleine ergeben sich Spaß\, Auflockerung und Begegnung \nSpritzig-lebendige Folk-Tänze aus Großbritannien und Frankreich \nJung und Alt tanzen in spontan gebildeten Gruppen \nVorkenntnisse sind nicht erforderlich \nDie Teilnahme ist mit und ohne Tanzpartner*in möglich \nEintritt frei/ auf Spendenbasis \n  \n  \nAnmeldung gerne an \neinfachtanzen-pliezhausen@web.de \n07127/70010
URL:https://kifaz-pliezhausen.de/veranstaltung/einfach-tanzen/2024-08-11/
LOCATION:Evang. Gemeindehaus\, Lindenstraße 5\, Pliezhausen\, 72124
CATEGORIES:Eltern,Großeltern
ATTACH;FMTTYPE=image/jpeg:https://kifaz-pliezhausen.de/wp-content/uploads/2022/10/Tanzen.jpg
END:VEVENT
BEGIN:VEVENT
DTSTART;TZID=Europe/Berlin:20240714T190000
DTEND;TZID=Europe/Berlin:20240714T190000
DTSTAMP:20260424T154607
CREATED:20221005T105837Z
LAST-MODIFIED:20221005T105837Z
UID:1817-1720983600-1720983600@kifaz-pliezhausen.de
SUMMARY:EINFACH TANZEN
DESCRIPTION:mit Mara Dagmar Ziegler \ndie tanzmeisterei\, Tübingen \n  \nGanz von alleine ergeben sich Spaß\, Auflockerung und Begegnung \nSpritzig-lebendige Folk-Tänze aus Großbritannien und Frankreich \nJung und Alt tanzen in spontan gebildeten Gruppen \nVorkenntnisse sind nicht erforderlich \nDie Teilnahme ist mit und ohne Tanzpartner*in möglich \nEintritt frei/ auf Spendenbasis \n  \n  \nAnmeldung gerne an \neinfachtanzen-pliezhausen@web.de \n07127/70010
URL:https://kifaz-pliezhausen.de/veranstaltung/einfach-tanzen/2024-07-14/
LOCATION:Evang. Gemeindehaus\, Lindenstraße 5\, Pliezhausen\, 72124
CATEGORIES:Eltern,Großeltern
ATTACH;FMTTYPE=image/jpeg:https://kifaz-pliezhausen.de/wp-content/uploads/2022/10/Tanzen.jpg
END:VEVENT
BEGIN:VEVENT
DTSTART;TZID=Europe/Berlin:20240609T190000
DTEND;TZID=Europe/Berlin:20240609T190000
DTSTAMP:20260424T154607
CREATED:20221005T105837Z
LAST-MODIFIED:20221005T105837Z
UID:1816-1717959600-1717959600@kifaz-pliezhausen.de
SUMMARY:EINFACH TANZEN
DESCRIPTION:mit Mara Dagmar Ziegler \ndie tanzmeisterei\, Tübingen \n  \nGanz von alleine ergeben sich Spaß\, Auflockerung und Begegnung \nSpritzig-lebendige Folk-Tänze aus Großbritannien und Frankreich \nJung und Alt tanzen in spontan gebildeten Gruppen \nVorkenntnisse sind nicht erforderlich \nDie Teilnahme ist mit und ohne Tanzpartner*in möglich \nEintritt frei/ auf Spendenbasis \n  \n  \nAnmeldung gerne an \neinfachtanzen-pliezhausen@web.de \n07127/70010
URL:https://kifaz-pliezhausen.de/veranstaltung/einfach-tanzen/2024-06-09/
LOCATION:Evang. Gemeindehaus\, Lindenstraße 5\, Pliezhausen\, 72124
CATEGORIES:Eltern,Großeltern
ATTACH;FMTTYPE=image/jpeg:https://kifaz-pliezhausen.de/wp-content/uploads/2022/10/Tanzen.jpg
END:VEVENT
BEGIN:VEVENT
DTSTART;TZID=Europe/Berlin:20240524T100000
DTEND;TZID=Europe/Berlin:20240524T180000
DTSTAMP:20260424T154607
CREATED:20240319T161229Z
LAST-MODIFIED:20240319T190336Z
UID:1903-1716544800-1716573600@kifaz-pliezhausen.de
SUMMARY:Familienspaß im Greut
DESCRIPTION:Ein Tag für die ganze Familie \n  \nIhr braucht noch Ideen für die Pfingstferien? \nKOMMT SPIELEN! \nDas Spielmobil steht heute den ganzen Tag im Freizeitgelände Greut und will von Euch entdeckt werden. Es steckt voller toller Spielsachen für die ganze Familie\, die es in den meisten Kinderzimmern und Garagen nicht gibt. Kommt vorbei und lasst euch überraschen. \nGeeignet für Kindergartenkinder und ihre Geschwister. Die Aufsichtspflicht liegt bei den Eltern bzw. begleitenden Erwachsenen. Es gibt keine Kinderbetreuung\, die Aufsichtspflicht liegt bei den Eltern bzw. den begleitenden Erwachsenen! \nWer Lust hat\, bringt Picknick mit\, gerne auch etwas zum Grillen. Die Feuerstelle kann den ganzen Tag über benutzt werden. Getränke sind vorhanden.
URL:https://kifaz-pliezhausen.de/veranstaltung/1903/
LOCATION:Freizeitbereich „Greut“\, Freizeitbereich Greut der evangelischen Kirchengemeinde\, Greutstraße\, Pliezhausen\, Baden Württemberg\, 72124\, Deutschland
CATEGORIES:Eltern,Großeltern,Kinder
ATTACH;FMTTYPE=image/jpeg:https://kifaz-pliezhausen.de/wp-content/uploads/2024/03/Bild.jpg
END:VEVENT
BEGIN:VEVENT
DTSTART;TZID=Europe/Berlin:20240512T190000
DTEND;TZID=Europe/Berlin:20240512T190000
DTSTAMP:20260424T154607
CREATED:20221005T105837Z
LAST-MODIFIED:20221005T105837Z
UID:1815-1715540400-1715540400@kifaz-pliezhausen.de
SUMMARY:EINFACH TANZEN
DESCRIPTION:mit Mara Dagmar Ziegler \ndie tanzmeisterei\, Tübingen \n  \nGanz von alleine ergeben sich Spaß\, Auflockerung und Begegnung \nSpritzig-lebendige Folk-Tänze aus Großbritannien und Frankreich \nJung und Alt tanzen in spontan gebildeten Gruppen \nVorkenntnisse sind nicht erforderlich \nDie Teilnahme ist mit und ohne Tanzpartner*in möglich \nEintritt frei/ auf Spendenbasis \n  \n  \nAnmeldung gerne an \neinfachtanzen-pliezhausen@web.de \n07127/70010
URL:https://kifaz-pliezhausen.de/veranstaltung/einfach-tanzen/2024-05-12/
LOCATION:Evang. Gemeindehaus\, Lindenstraße 5\, Pliezhausen\, 72124
CATEGORIES:Eltern,Großeltern
ATTACH;FMTTYPE=image/jpeg:https://kifaz-pliezhausen.de/wp-content/uploads/2022/10/Tanzen.jpg
END:VEVENT
BEGIN:VEVENT
DTSTART;TZID=Europe/Berlin:20240310T190000
DTEND;TZID=Europe/Berlin:20240310T190000
DTSTAMP:20260424T154607
CREATED:20221005T105837Z
LAST-MODIFIED:20240205T085539Z
UID:1813-1710097200-1710097200@kifaz-pliezhausen.de
SUMMARY:EINFACH TANZEN
DESCRIPTION:mit Mara Dagmar Ziegler \ndie tanzmeisterei\, Tübingen \n  \nGanz von alleine ergeben sich Spaß\, Auflockerung und Begegnung \nSpritzig-lebendige Folk-Tänze aus Großbritannien und Frankreich \nJung und Alt tanzen in spontan gebildeten Gruppen \nVorkenntnisse sind nicht erforderlich \nDie Teilnahme ist mit und ohne Tanzpartner*in möglich \nEintritt frei/ auf Spendenbasis \n  \n  \nAnmeldung gerne an \neinfachtanzen-pliezhausen@web.de \n07127/70010
URL:https://kifaz-pliezhausen.de/veranstaltung/einfach-tanzen-2024-03-10/
LOCATION:Evang. Gemeindehaus\, Lindenstraße 5\, Pliezhausen\, 72124
CATEGORIES:Eltern,Großeltern
ATTACH;FMTTYPE=image/jpeg:https://kifaz-pliezhausen.de/wp-content/uploads/2022/10/Tanzen.jpg
END:VEVENT
BEGIN:VEVENT
DTSTART;TZID=Europe/Berlin:20231006T153000
DTEND;TZID=Europe/Berlin:20231006T163000
DTSTAMP:20260424T154607
CREATED:20230927T083655Z
LAST-MODIFIED:20231019T094846Z
UID:1572-1696606200-1696609800@kifaz-pliezhausen.de
SUMMARY:Chorprobe:  Weihnachtsmusical
DESCRIPTION:Die Drei vom Stall – eine Geschichte die von ein paar verpeilten Schafen\, einem überheblichen Ochsen und einem nachdenklichen Esel handelt\, die zur Krippe im Stall von Bethlehem finden… \nFür jeden ist etwas dabei: Du kannst im Chor mitsingen\, ein Solo singen oder in eine Theaterrolle schlüpfen. \n1.-6. Klasse \nBei der ersten Probe werden wir die Rollen verteilen. \nGeneralprobe\n23.12.23 vormittags\nAufführung\n24.12.2023 – 15.00 Uhr in der Martinskirche \nKontakt für Rückfragen\nJulia.Kling@elkw.de (Pfarrerin)\njacquelinekurtz@swdec.de (Jugendreferentin) \nAnmeldung bis 04.10.23 unter \nhttps://forms.office.com/e/6nXAEJXLjC
URL:https://kifaz-pliezhausen.de/veranstaltung/weihnachtsmusical/2023-10-06/
LOCATION:Evang. Gemeindehaus\, Lindenstraße 5\, Pliezhausen\, 72124
CATEGORIES:Kinder
ATTACH;FMTTYPE=image/png:https://kifaz-pliezhausen.de/wp-content/uploads/2023/09/Musical-Bild.png
END:VEVENT
BEGIN:VEVENT
DTSTART;TZID=Europe/Berlin:20230630T200000
DTEND;TZID=Europe/Berlin:20230630T200000
DTSTAMP:20260424T154607
CREATED:20230425T130303Z
LAST-MODIFIED:20230619T165005Z
UID:1351-1688155200-1688155200@kifaz-pliezhausen.de
SUMMARY:Open Air Konzert mit Bastian Benoa
DESCRIPTION:Von Blockflöte und Blaskapelle über Klavier und Punkrock bis hin zu gesungenen Gebeten … \nMusik war schon immer seine große Leidenschaft. In den letzten Jahren ging Bastian Benoa dem Impuls nach\, Singer-Songwriter Musik zu machen. Im eigenen Studio entstanden verschiedenste Songs\, die zum ersten Soloalbum führten und zu einer Teilnahme bei der 12. Staffel von „The Voice of Germany“. Bastian Benoa ist überzeugt:  „Musik belebt. Musik beflügelt. Musik verändert. Musik inspiriert\, macht sprachfähig. Musik ist etwas Himmlisches. Mein Traum ist\, dass durch meine Musik ein Stück Himmel auf der Erde erlebbar wird.“ \n…auf dem Kirchplatz \n…Einlass ab 19 Uhr \nEintrittskarten gibt’s im Vorverkauf in der Schönbuchhandlung oder online \nEintrittskarten (ev-kirche-pliezhausen-doernach.de) \n  \nWer schonmal reinhören möchte: \n\n\n   \n\nMit dem Laden des Videos akzeptieren Sie die Datenschutzerklärung von YouTube.Mehr erfahren \nVideo laden \n YouTube immer entsperren \n \n \n \n\n\n  \n  \n 
URL:https://kifaz-pliezhausen.de/veranstaltung/open-air-konzert-mit-bastian-benoa/
LOCATION:Kirchplatz\, Pfarrgasse 3\, Pliezhausen\, Württemberg\, 72124\, Deutschland
CATEGORIES:Eltern,Großeltern
ATTACH;FMTTYPE=image/jpeg:https://kifaz-pliezhausen.de/wp-content/uploads/2023/04/Benoa-2.jpg
END:VEVENT
BEGIN:VEVENT
DTSTART;TZID=Europe/Berlin:20230325T183000
DTEND;TZID=Europe/Berlin:20230325T183000
DTSTAMP:20260424T154607
CREATED:20220519T055305Z
LAST-MODIFIED:20230313T141126Z
UID:1143-1679769000-1679769000@kifaz-pliezhausen.de
SUMMARY:Schwesterherzen
DESCRIPTION:It’s Ladies Time \nVom Stolpern und Tanzen \nHoffnungstexte aus dem Alltag von\nChristina Schöffler und Songs von Christina Stöhr \nChristina Schöffler ist Autorin und Bloggerin und lebt mit Ihrer Familie in Backnang.\nIhre ehrlichen und humorvollen Alltagsgeschichten machen Mut zum Leben\, so wie\nes ist und nicht wie wir es gerne hätten. \nBegleitet wird sie von der Sängerin und Songwriterin Christina Stöhr.\nIhre sanften und kraftvollen Lieder sind eine Einladung zum Hinsehen und Hinhören. \nEin gemütlicher Abend bei Snacks und Getränken wartet auf Dich! \nWenn Du gerne bei unserem Ladies Abend dabei sein möchtest\, meld‘ Dich gleich an. \n📧 schwesterherzen@online.de\noder 📱0160 8552 856\n(Anmeldeschluss: Dienstag\, 21.03.2023)\n\nWir freuen uns auf DICH! \n 
URL:https://kifaz-pliezhausen.de/veranstaltung/schwesterherzen-fruehstueck-2023-03-25/
LOCATION:Evang. Gemeindehaus\, Lindenstraße 5\, Pliezhausen\, 72124
CATEGORIES:Frauen
ATTACH;FMTTYPE=image/jpeg:https://kifaz-pliezhausen.de/wp-content/uploads/2022/05/lesung-und-Lieder.jpg
END:VEVENT
BEGIN:VEVENT
DTSTART;TZID=Europe/Berlin:20221218T160000
DTEND;TZID=Europe/Berlin:20221218T170000
DTSTAMP:20260424T154607
CREATED:20221110T143306Z
LAST-MODIFIED:20221110T144036Z
UID:1002-1671379200-1671382800@kifaz-pliezhausen.de
SUMMARY:Krümelkirche
DESCRIPTION:… das sind unsere neuen Mini-Gottesdienste für Kinder von 0 bis 5 Jahren mit ihren Mamas\, Papas\, Paten\, Großeltern\, … kurzum: mit Erwachsenen\, denen das nicht auf den Keks geht. \nWir treffen uns drei- bis viermal im Jahr Sonntagnachmittags um 16 Uhr in der Martinskirche und feiern 30 Minuten Krümelgottesdienst: bunt und lebendig mit einer (biblischen) Geschichte\, mit Liedern\, Spielen\, kleinen Basteleien\, … \nUnd dann wird gekrümelt! Wir laden ein zu Keksen\, Saft\, Kaffee und Tee. \n  \nHerzliche Einladung zur ersten Krümelkirche am vierten Adventssonntag: \n18. Dezember 2022 um 16 Uhr in der Martinskirche \n  \nTermine für 2023: \n5. März // 21. Mai // 22. Oktober // 17. Dezember \n  \nBei Fragen gerne bei Pfarrerin Julia Kling melden.
URL:https://kifaz-pliezhausen.de/veranstaltung/kruemelkirche/2022-12-18/
LOCATION:Ev. Martinskirche\, Pfarrgasse 3\, Pliezhausen\, 72124\, Deutschland
CATEGORIES:Eltern,Großeltern,Kinder
ATTACH;FMTTYPE=image/jpeg:https://kifaz-pliezhausen.de/wp-content/uploads/2022/11/Plakat_Kruemelkirche_Hintergrund.jpg
END:VEVENT
BEGIN:VEVENT
DTSTART;TZID=Europe/Berlin:20221213T180000
DTEND;TZID=Europe/Berlin:20221213T180000
DTSTAMP:20260424T154607
CREATED:20221110T144519Z
LAST-MODIFIED:20221110T144519Z
UID:1048-1670954400-1670954400@kifaz-pliezhausen.de
SUMMARY:Advents-Feuer im Greut
DESCRIPTION:Am Dienstag\, 13. Dezember um 18 Uhr die Adventszeit noch einmal ganz neu miteinander erleben.  \nWir machen uns auf dem Greutgelände auf den Weg zu drei Feuerschalen. \nDort erwarten uns immer eine Geschichte und Lieder zur Advents- und Weihnachtszeit. Anschließend gibt es noch Punsch & Glühwein für alle. \nHerzliche Einladung. \nNähere Info´s bei Diakon Sebastian Heusel  E-Mail: Sebastian.Heusel@elkw.de
URL:https://kifaz-pliezhausen.de/veranstaltung/advents-feuer-im-greut/
LOCATION:Freizeitbereich „Greut“\, Freizeitbereich Greut der evangelischen Kirchengemeinde\, Greutstraße\, Pliezhausen\, Baden Württemberg\, 72124\, Deutschland
CATEGORIES:Eltern,Großeltern,Kinder
ATTACH;FMTTYPE=image/jpeg:https://kifaz-pliezhausen.de/wp-content/uploads/2022/11/Feuer-.jpg
END:VEVENT
BEGIN:VEVENT
DTSTART;TZID=Europe/Berlin:20221009T190000
DTEND;TZID=Europe/Berlin:20221009T190000
DTSTAMP:20260424T154607
CREATED:20221005T105837Z
LAST-MODIFIED:20240112T191023Z
UID:878-1665342000-1665342000@kifaz-pliezhausen.de
SUMMARY:EINFACH TANZEN
DESCRIPTION:mit Mara Dagmar Ziegler \ndie tanzmeisterei\, Tübingen \n  \nGanz von alleine ergeben sich Spaß\, Auflockerung und Begegnung \nSpritzig-lebendige Folk-Tänze aus Großbritannien und Frankreich \nJung und Alt tanzen in spontan gebildeten Gruppen \nVorkenntnisse sind nicht erforderlich \nDie Teilnahme ist mit und ohne Tanzpartner*in möglich \nEintritt frei/ auf Spendenbasis \n  \n  \nAnmeldung gerne an \neinfachtanzen-pliezhausen@web.de \n07127/70010
URL:https://kifaz-pliezhausen.de/veranstaltung/einfach-tanzen/2022-10-09/
LOCATION:Evang. Gemeindehaus\, Lindenstraße 5\, Pliezhausen\, 72124
CATEGORIES:Eltern,Großeltern
ATTACH;FMTTYPE=image/jpeg:https://kifaz-pliezhausen.de/wp-content/uploads/2022/10/Tanzen.jpg
END:VEVENT
BEGIN:VEVENT
DTSTART;TZID=Europe/Berlin:20220625T160000
DTEND;TZID=Europe/Berlin:20220625T160000
DTSTAMP:20260424T154607
CREATED:20220519T055143Z
LAST-MODIFIED:20221027T121323Z
UID:404-1656172800-1656172800@kifaz-pliezhausen.de
SUMMARY:„bewegt\, beschwingt\, befreit“
DESCRIPTION:It’s ladies time\nDie Schwesterherzen laden ein am Sa 25.6.2022 zu \n„bewegt\, beschwingt\, befreit“ \nWir starten um 16 Uhr mit einer Workshopzeit: egal ob beim Tanz oder beim Herstellen eines Makrameewindlichts – wir wollen gemeinsam loslegen! \nAb 19 Uhr gibt’s es für alle Lyrik\, Pop und Poesie zum Thema:  „Balance“- mehr Leichtigkeit in meinem Leben \nMehr Infos gibt es unter Schwesterherzen
URL:https://kifaz-pliezhausen.de/veranstaltung/schwesterherzen-bewegt-beschwingt-befreit/
LOCATION:Evang. Gemeindehaus\, Lindenstraße 5\, Pliezhausen\, 72124
CATEGORIES:Frauen
ATTACH;FMTTYPE=image/jpeg:https://kifaz-pliezhausen.de/wp-content/uploads/2022/05/Schwesterherzen-Logo.jpg
END:VEVENT
END:VCALENDAR